BEGIN:VCALENDAR
VERSION:2.0
PRODID:-//Scalarama - ECPv6.15.20//NONSGML v1.0//EN
CALSCALE:GREGORIAN
METHOD:PUBLISH
X-WR-CALNAME:Scalarama
X-ORIGINAL-URL:https://scalarama.com
X-WR-CALDESC:Events for Scalarama
REFRESH-INTERVAL;VALUE=DURATION:PT1H
X-Robots-Tag:noindex
X-PUBLISHED-TTL:PT1H
BEGIN:VTIMEZONE
TZID:Europe/London
BEGIN:DAYLIGHT
TZOFFSETFROM:+0000
TZOFFSETTO:+0100
TZNAME:BST
DTSTART:20200329T010000
END:DAYLIGHT
BEGIN:STANDARD
TZOFFSETFROM:+0100
TZOFFSETTO:+0000
TZNAME:GMT
DTSTART:20201025T010000
END:STANDARD
BEGIN:DAYLIGHT
TZOFFSETFROM:+0000
TZOFFSETTO:+0100
TZNAME:BST
DTSTART:20210328T010000
END:DAYLIGHT
BEGIN:STANDARD
TZOFFSETFROM:+0100
TZOFFSETTO:+0000
TZNAME:GMT
DTSTART:20211031T010000
END:STANDARD
BEGIN:DAYLIGHT
TZOFFSETFROM:+0000
TZOFFSETTO:+0100
TZNAME:BST
DTSTART:20220327T010000
END:DAYLIGHT
BEGIN:STANDARD
TZOFFSETFROM:+0100
TZOFFSETTO:+0000
TZNAME:GMT
DTSTART:20221030T010000
END:STANDARD
END:VTIMEZONE
BEGIN:VEVENT
DTSTART;TZID=Europe/London:20210812T200000
DTEND;TZID=Europe/London:20210812T220000
DTSTAMP:20260426T015402
CREATED:20210806T184101Z
LAST-MODIFIED:20210806T184101Z
UID:10240-1628798400-1628805600@scalarama.com
SUMMARY:Scalarama Leeds Summer Screenings: Perfect 10 (2019)
DESCRIPTION:84mins | Rated 15 | UK | Director: Eva Riley | Programmer: Fran Albrecht \n‘Perfect 10’ tells the story of 14-year old Leigh (Frankie Box)\, a gymnast who struggles to get her flow back since her mum’s death. Her life takes an unexpected turn when her unknown half brother Joe (Alfie Deegan) suddenly appears. Through him\, she finds excitement in a much darker world. Working with first-time actors\, Eva Riley’s debut feature is a gripping coming-of-age drama that centres on the special relationship between the two siblings. \nAfter the screening\, director Eva Riley will join us for a virtual Q&A. \n  \nContent Warnings (may contain spoilers) \nPerfect 10 \n\nEmotional abuse (Leigh gets bullied by the other gymnasts)\nImplied drug abuse\nStrong language
URL:https://scalarama.com/event/scalarama-leeds-summer-screenings-perfect-10-2019/
LOCATION:Headingley HEART\, Heart\, Bennett Road\, Headingley\,\, Leeds\, West Yorkshire\, LS6 3HN\, United Kingdom
CATEGORIES:DirectedbyWomen,F-Rated,film festival,leeds
ATTACH;FMTTYPE=image/jpeg:https://scalarama.com/wp-content/uploads/2021/08/perfect10.jpeg
END:VEVENT
END:VCALENDAR