BEGIN:VCALENDAR
VERSION:2.0
PRODID:-//Scalarama - ECPv6.15.20//NONSGML v1.0//EN
CALSCALE:GREGORIAN
METHOD:PUBLISH
X-WR-CALNAME:Scalarama
X-ORIGINAL-URL:https://scalarama.com
X-WR-CALDESC:Events for Scalarama
REFRESH-INTERVAL;VALUE=DURATION:PT1H
X-Robots-Tag:noindex
X-PUBLISHED-TTL:PT1H
BEGIN:VTIMEZONE
TZID:Europe/London
BEGIN:DAYLIGHT
TZOFFSETFROM:+0000
TZOFFSETTO:+0100
TZNAME:BST
DTSTART:20170326T010000
END:DAYLIGHT
BEGIN:STANDARD
TZOFFSETFROM:+0100
TZOFFSETTO:+0000
TZNAME:GMT
DTSTART:20171029T010000
END:STANDARD
BEGIN:DAYLIGHT
TZOFFSETFROM:+0000
TZOFFSETTO:+0100
TZNAME:BST
DTSTART:20180325T010000
END:DAYLIGHT
BEGIN:STANDARD
TZOFFSETFROM:+0100
TZOFFSETTO:+0000
TZNAME:GMT
DTSTART:20181028T010000
END:STANDARD
BEGIN:DAYLIGHT
TZOFFSETFROM:+0000
TZOFFSETTO:+0100
TZNAME:BST
DTSTART:20190331T010000
END:DAYLIGHT
BEGIN:STANDARD
TZOFFSETFROM:+0100
TZOFFSETTO:+0000
TZNAME:GMT
DTSTART:20191027T010000
END:STANDARD
END:VTIMEZONE
BEGIN:VEVENT
DTSTART;TZID=Europe/London:20180809T183000
DTEND;TZID=Europe/London:20180809T213000
DTSTAMP:20260426T051645
CREATED:20180802T075002Z
LAST-MODIFIED:20180802T145559Z
UID:6614-1533839400-1533850200@scalarama.com
SUMMARY:Scalarama Sussex 2018 Launch Night
DESCRIPTION:What is Scalarama?\nA month of film: 30 days in which cinemas across the world celebrate watching motion pictures together; where cities\, towns and villages are transformed with screenings popping up in unexpected places; and where classic\, rare or locally made films get an annual showing impotenzastop.it/. \nSince 2011\, every September\, cinemas\, film clubs and film festivals plus various organisations and individuals who have a passion for movies\, have united to celebrate cinema together. \nFor 2018\, Scalarama Sussex includes over thirty cinema-related events\, organised by a huge range of venues and organisations\, from the mainstream and popular to the experimental and little-known. Brighton’s cinematic heritage will be celebrated with special tours offered through Heritage Open Days\, and the festival again goes beyond the city\, with screenings in Isfield\, Lewes\, Seaford and Worthing. \nCome and join us to find out more!\nRepresentatives from many of the exhibitors will be available at the launch\, and will be delighted to talk you through their screenings and give insight into the vibrant cinema scene in Brighton & Hove and East Sussex.
URL:https://scalarama.com/event/scalarama-sussex-2018-launch-night/
LOCATION:ONCA Gallery\, 14 St George's Place\, Brighton\, East Sussex\, BN1 4GB\, United Kingdom
CATEGORIES:brighton,Launch Event,sussex
ATTACH;FMTTYPE=image/jpeg:https://scalarama.com/wp-content/uploads/2018/08/Scala3.jpg
ORGANIZER;CN="Scalarama Sussex":MAILTO:michael.pj.mcdermott@gmail.com
END:VEVENT
BEGIN:VEVENT
DTSTART;TZID=Europe/London:20180811T190000
DTEND;TZID=Europe/London:20180811T220000
DTSTAMP:20260426T051645
CREATED:20180712T215944Z
LAST-MODIFIED:20180803T203449Z
UID:5067-1534014000-1534024800@scalarama.com
SUMMARY:John Waters' Polyester in Odorama! | Scalarama Scotland 2018 Launch
DESCRIPTION:Join us for the launch of the Scalarama Scotland 2018 programme\, and a rare screening of John Waters’ Polyester (1981) as it was intended – in original scratch ‘n’ sniff Odorama! \nMeet Francine Fishpaw\, tortured suburban housewife. With a pornographer husband\, a pregnant teenage daughter\, and a son with a foot-stomping fetish\, Francine smells trouble around every corner. That is\, until she meets and falls madly in love with Todd Tomorrow. \nPolyester screens with Michael Baig Clifford’s Scala Cinema documentary (1990) and Scalarama participants from across Scotland will introduce the 2018 programme. \nRSVP for free ticket (including Odorama card): bit.ly/odorama2018 \nThanks to Filmbank + Film Hub Scotland \n \n 
URL:https://scalarama.com/event/john-waters-polyester-in-odorama-scalarama-2018-launch/
LOCATION:The Seamore Community Cinema\, 304 Maryhill Road\, Glasgow\, Lanarkshire\, G20 7YE\, United Kingdom
CATEGORIES:Glasgow,Launch Event,Scala Cinema 40th Anniversary,scotland
ATTACH;FMTTYPE=image/jpeg:https://scalarama.com/wp-content/uploads/2018/07/Polyester-copy.jpg
END:VEVENT
BEGIN:VEVENT
DTSTART;TZID=Europe/London:20180829T200000
DTEND;TZID=Europe/London:20180829T220000
DTSTAMP:20260426T051645
CREATED:20180729T110610Z
LAST-MODIFIED:20180802T145558Z
UID:6436-1535572800-1535580000@scalarama.com
SUMMARY:Feel Scala : Scalarama Liverpool 2018 Programme Launch
DESCRIPTION:We are up for cinema partying in Liverpool !  Join us in THE launch  of Scalarama Liverpool  2018 programme where everyone is invited and you can not missed! No etiquette\, no ticket\, no nada.. only your presence is needed. \nEmbrace the Scalarama spirit in one of the most upbeat bars in town\, The Baltic Social\, be the first one to watch our brand new 2018 Scalarama Liverpool season trailer and the screening of Michael Baig Clifford’s short documentary on the original inspiration for Scalarama\, London’s legendary Scala Cinema. This year marks the 40th anniversary of the Scala Cinema’s opening and the 25th anniversary of its closure. Our Liverpudlian opening will include a hand-picked short films exploring our star theme of this year\, The Spirit Of 68  . Right after the screenings\, if you mingle around you can have a “social drink” with the Scalarama team\,  exchange views with the curators of this year’s programme or hopefully you might want to grow our lovely family and become involved in the electrifying world of Scalarama. Whatever happens\, we guarantee you will not get bored!\nThis event is completely free – no need to book !
URL:https://scalarama.com/event/feel-scala-scalarama-liverpool-2018-programme-launch/
LOCATION:The Baltic Social\, 27 Parliament St\, Liverpool\, L8 5RN\, United Kingdom
CATEGORIES:Launch Event,liverpool,Scala Cinema 40th Anniversary
ATTACH;FMTTYPE=image/png:https://scalarama.com/wp-content/uploads/2018/07/scala-CAT.png
ORGANIZER;CN="Scalarama Liverpool":MAILTO:scalaramaliverpool@gmail.com
END:VEVENT
END:VCALENDAR