BEGIN:VCALENDAR
VERSION:2.0
PRODID:-//Scalarama - ECPv6.15.20//NONSGML v1.0//EN
CALSCALE:GREGORIAN
METHOD:PUBLISH
X-WR-CALNAME:Scalarama
X-ORIGINAL-URL:https://scalarama.com
X-WR-CALDESC:Events for Scalarama
REFRESH-INTERVAL;VALUE=DURATION:PT1H
X-Robots-Tag:noindex
X-PUBLISHED-TTL:PT1H
BEGIN:VTIMEZONE
TZID:Europe/London
BEGIN:DAYLIGHT
TZOFFSETFROM:+0000
TZOFFSETTO:+0100
TZNAME:BST
DTSTART:20180325T010000
END:DAYLIGHT
BEGIN:STANDARD
TZOFFSETFROM:+0100
TZOFFSETTO:+0000
TZNAME:GMT
DTSTART:20181028T010000
END:STANDARD
BEGIN:DAYLIGHT
TZOFFSETFROM:+0000
TZOFFSETTO:+0100
TZNAME:BST
DTSTART:20190331T010000
END:DAYLIGHT
BEGIN:STANDARD
TZOFFSETFROM:+0100
TZOFFSETTO:+0000
TZNAME:GMT
DTSTART:20191027T010000
END:STANDARD
BEGIN:DAYLIGHT
TZOFFSETFROM:+0000
TZOFFSETTO:+0100
TZNAME:BST
DTSTART:20200329T010000
END:DAYLIGHT
BEGIN:STANDARD
TZOFFSETFROM:+0100
TZOFFSETTO:+0000
TZNAME:GMT
DTSTART:20201025T010000
END:STANDARD
END:VTIMEZONE
BEGIN:VEVENT
DTSTART;TZID=Europe/London:20190320T180000
DTEND;TZID=Europe/London:20190320T210000
DTSTAMP:20260424T211320
CREATED:20190320T142045Z
LAST-MODIFIED:20190320T165553Z
UID:8327-1553104800-1553115600@scalarama.com
SUMMARY:Scalarama Liverpool 2019 First Meeting
DESCRIPTION:BEGINNING\nScalarama (1-30 September 2019) is a celebration of cinema\, for everyone\, by everyone\, everywhere\, taking place every September. \nHi folks \nthis will be the first of three planning meeting of Liverpool’s Scalarama 2019. Andy has kindly let us have it at Videoddysey which (if you don’t know) is pretty close to the Anglican in Toxteth. \nWe will be looking at:\nIntroductions for new folks\nThe schedule for this year\nThis year’s themes\nLicensing\nDeveloping ideas\nA bunch of other stuff \nWhether you’ve been involved previously\, you’re new to it or would like to get involved in any way we’ll be getting the ball rolling and facilitating more fantastic cinema events this September. \n  \nIf you can’t make it and would like to be involved this year please contact either Lucas or Katie by email>> scalaramaliverpool@gmail.com  and we will arrange to meet with you.
URL:https://scalarama.com/event/scalarama-liverpool-2019-first-meeting/
LOCATION:Toxteth TV\, 37-45 Windsor St\, Liverpool\, L8 1XE\, United Kingdom
CATEGORIES:liverpool,meetups
ATTACH;FMTTYPE=image/jpeg:https://scalarama.com/wp-content/uploads/2019/03/scalarama-meeting-.jpg
ORGANIZER;CN="Scalarama Liverpool":MAILTO:scalaramaliverpool@gmail.com
END:VEVENT
END:VCALENDAR