BEGIN:VCALENDAR
VERSION:2.0
PRODID:-//Scalarama - ECPv6.15.20//NONSGML v1.0//EN
CALSCALE:GREGORIAN
METHOD:PUBLISH
X-WR-CALNAME:Scalarama
X-ORIGINAL-URL:https://scalarama.com
X-WR-CALDESC:Events for Scalarama
REFRESH-INTERVAL;VALUE=DURATION:PT1H
X-Robots-Tag:noindex
X-PUBLISHED-TTL:PT1H
BEGIN:VTIMEZONE
TZID:Europe/London
BEGIN:DAYLIGHT
TZOFFSETFROM:+0000
TZOFFSETTO:+0100
TZNAME:BST
DTSTART:20170326T010000
END:DAYLIGHT
BEGIN:STANDARD
TZOFFSETFROM:+0100
TZOFFSETTO:+0000
TZNAME:GMT
DTSTART:20171029T010000
END:STANDARD
BEGIN:DAYLIGHT
TZOFFSETFROM:+0000
TZOFFSETTO:+0100
TZNAME:BST
DTSTART:20180325T010000
END:DAYLIGHT
BEGIN:STANDARD
TZOFFSETFROM:+0100
TZOFFSETTO:+0000
TZNAME:GMT
DTSTART:20181028T010000
END:STANDARD
BEGIN:DAYLIGHT
TZOFFSETFROM:+0000
TZOFFSETTO:+0100
TZNAME:BST
DTSTART:20190331T010000
END:DAYLIGHT
BEGIN:STANDARD
TZOFFSETFROM:+0100
TZOFFSETTO:+0000
TZNAME:GMT
DTSTART:20191027T010000
END:STANDARD
END:VTIMEZONE
BEGIN:VEVENT
DTSTART;TZID=Europe/London:20181025T210000
DTEND;TZID=Europe/London:20181025T230000
DTSTAMP:20260425T165247
CREATED:20180801T210658Z
LAST-MODIFIED:20180801T210658Z
UID:6663-1540501200-1540508400@scalarama.com
SUMMARY:Bristol Bad Film Club presents… SAMURAI COP – Oxford
DESCRIPTION:Bristol Bad Film Club is going on the road… and we’re bringing Samurai Cop to Oxford!  \nImagine a low-budget version of Lethal Weapon where Mel Gibson spends most of his time being racist to the Japanese\, attempts to sleep with anything that moves and walks around in his pants a lot. That’s Samurai Cop\, but there is so much more to this cult film than that… \nDescribed as “both the best and the worst action film ever”\, Samurai Cop is an unintentionally hilarious action film that sees San Diego cop Joe ‘Samurai’ Marshall dispatched to stop the drug-trafficking Yakuza cartel – The Katana Gang. \nMade in 1990 by Iranian film maker Amir Shervan\, Samurai Cop is a perfect storm of 80s cop movie cliches\, over-the-top dialogue\, weird editing\, goofy fight scenes (that seem to constantly switch location) and a soundtrack that sounds like it belongs in a SEGA MasterSystem game. \nToday\, Samurai Cop is often described in the same breath as infamous ‘so bad\, they’re great’ films like The Room and Birdemic: Shock and Terror and the Bristol Bad Film Club are bringing it to Coventry! \nA cabal of Japanese mobsters known as the Katana Gang is taking over the streets of Los Angeles. With the regular police unable to stop them\, it’s up to maverick cop Joe “the Samurai” Marshal to use his sword and martial arts expertise to bring the crooks down. \nWhen: 9.00pm\, Thursday 25th October 2018 \nLocation: The Ultimate Picture Palace\, Jeune St\, Cowley Road\, Oxford OX4 1BN \n“The party aspect in this movie is spectacular. From the sheer cheese of the main character’s behaviour to the gratuitous amounts of nudity\, everyone is guaranteed to get a laugh\, or at least an awkward boner…” BetterWithPopcorn.com \n“Amazingly hamfisted ineptitude… perhaps the most god-awful example of bungled\, inept action movie filmmaking of the 1980s” Brian Lindsey\, Eccentric Cinema \n“Defies all logic. It’s both the best and worst action movie ever” Andrew Martin\, Facebook.com/AmirShervan
URL:https://scalarama.com/event/bristol-bad-film-club-presents-samurai-cop-oxford/
LOCATION:The Ultimate Picture Palace\, Jeune St\, Cowley Road\, Oxford\, OX4 1BN\, United Kingdom
END:VEVENT
END:VCALENDAR