BEGIN:VCALENDAR
VERSION:2.0
PRODID:-//Scalarama - ECPv6.15.20//NONSGML v1.0//EN
CALSCALE:GREGORIAN
METHOD:PUBLISH
X-ORIGINAL-URL:https://scalarama.com
X-WR-CALDESC:Events for Scalarama
REFRESH-INTERVAL;VALUE=DURATION:PT1H
X-Robots-Tag:noindex
X-PUBLISHED-TTL:PT1H
BEGIN:VTIMEZONE
TZID:Europe/London
BEGIN:DAYLIGHT
TZOFFSETFROM:+0000
TZOFFSETTO:+0100
TZNAME:BST
DTSTART:20170326T010000
END:DAYLIGHT
BEGIN:STANDARD
TZOFFSETFROM:+0100
TZOFFSETTO:+0000
TZNAME:GMT
DTSTART:20171029T010000
END:STANDARD
BEGIN:DAYLIGHT
TZOFFSETFROM:+0000
TZOFFSETTO:+0100
TZNAME:BST
DTSTART:20180325T010000
END:DAYLIGHT
BEGIN:STANDARD
TZOFFSETFROM:+0100
TZOFFSETTO:+0000
TZNAME:GMT
DTSTART:20181028T010000
END:STANDARD
BEGIN:DAYLIGHT
TZOFFSETFROM:+0000
TZOFFSETTO:+0100
TZNAME:BST
DTSTART:20190331T010000
END:DAYLIGHT
BEGIN:STANDARD
TZOFFSETFROM:+0100
TZOFFSETTO:+0000
TZNAME:GMT
DTSTART:20191027T010000
END:STANDARD
END:VTIMEZONE
BEGIN:VEVENT
DTSTART;TZID=Europe/London:20180930T140000
DTEND;TZID=Europe/London:20180930T160000
DTSTAMP:20260425T165339
CREATED:20180902T161726Z
LAST-MODIFIED:20180902T161726Z
UID:7768-1538316000-1538323200@scalarama.com
SUMMARY:Suffragette
DESCRIPTION:Inspired by the true story of the women who inspired the world\, Suffragette tells the inspirational story of the foot soldiers of the early feminist movement who risked everything in the fight for equality. Starring Carey Mulligan\, Helena Bonham Carter\, and Meryl Streep as Emmeline Pankhurst. \nJoin us for this free screening\, as part of the Scalarama festival \nFree drop-in event\, no need to book
URL:https://scalarama.com/event/suffragette-2/
LOCATION:Merseyside Maritime Museum\, Albert Dock\, Liverpool\, L3 4AQ\, United Kingdom
CATEGORIES:DirectedbyWomen,F-Rated,liverpool
ATTACH;FMTTYPE=image/jpeg:https://scalarama.com/wp-content/uploads/2018/09/suffragette-film.jpg
END:VEVENT
BEGIN:VEVENT
DTSTART;TZID=Europe/London:20180930T150000
DTEND;TZID=Europe/London:20180930T180000
DTSTAMP:20260425T165339
CREATED:20180710T111655Z
LAST-MODIFIED:20180802T104819Z
UID:4950-1538319600-1538330400@scalarama.com
SUMMARY:Leeds Palestinian Film Festival: Film + Food Fundraiser
DESCRIPTION:Leeds Palestinian Film Festival Fundraiser \nWe need to raise funds for this year’s Film Festival in order to pay for some great films and travel expenses for speakers coming from other places. Please come and support us! \n\n\nAlong with a tasty Middle eastern buffet we’ll be showing one of our favourite Palestinian films\, The Wanted 18 a tale of talking cows and Palestinian rebellion. \n\nThe Wanted 18 recounts the true story of how the Palestinian neighbourhood of Beit Sahour near Bethlehem acquired a herd of 18 dairy cows and then had to hide them from the Israeli security forces when their existence was absurdly deemed a threat to national security.\nThis winning mix of documentary and clay-animation offers an unexpectedly humorous account of a West Bank town’s experience of the first Intifada\, a subject that doesn’t usually generate a lot of laughs in cinema. \n  \n\nSunday 30th September\, 15:00 -18:00\nWoodhouse Community Centre\, 197 Woodhouse St\, Leeds LS6 2NY\n\nhttps://www.woodhousecommunitycentre.com/ \n\n\nTickets are £10\, with some concessions for low income. \nBook via Eventbrite.https://www.eventbrite.co.uk/e/leeds–palestinian-film-festival-film-food-fundraiser-tickets-47889362372?utm_term=eventurl_text\n\n\n***If you are on a low income Pay As You Feel tickets will be available at the door***
URL:https://scalarama.com/event/leeds-palestinian-film-festival-film-food-fundraiser/
LOCATION:Woodhouse Community Centre\, 197 Woodhouse Street\, Leeds\, LS6 2NY\, United Kingdom
CATEGORIES:leeds
ATTACH;FMTTYPE=image/jpeg:https://scalarama.com/wp-content/uploads/2018/07/LPFF.jpg
END:VEVENT
BEGIN:VEVENT
DTSTART;TZID=Europe/London:20180930T173000
DTEND;TZID=Europe/London:20180930T193000
DTSTAMP:20260425T165339
CREATED:20180722T231224Z
LAST-MODIFIED:20180815T104443Z
UID:6144-1538328600-1538335800@scalarama.com
SUMMARY:Films We Love: Things to Come
DESCRIPTION:In Things to Come Isabelle Huppert plays Nathalie\, a philosophy professor navigating life in middle-age with a graceful defiance. Throughout Hansen-Løve’s absorbing film she faces a series of trying experiences including an unwell mother (screen legend Edith Scob)\, political protests\, marital infidelity and career compromises. Nathalie’s is a compelling and authentically told story\, as we see her teaching her students to question the notion of truth and undertake a journey that will ultimately see her grapple with the question of how to live well. \n“Probably the finest French actress in films today is Isabelle Huppert\, and in Things to Come we’re drawn deeply in to the daily concerns of one middle-class French family. It’s witty\, oddly uplifting and Huppert is superb.” – Screen Machine team. \nWe know that some of our audiences want to see a broader range of films\, so\, alongside our usual programme\, between August – October this year we’re bringing six different films to six different locations. Each film has been chosen specially by one of six members from the Screen Machine team. This is an outstanding selection of international titles spanning decades\, a variety of genres and innovative filmmaking styles. We’ve delved deep into our fondest memories of cinema-going to choose films that inspire\, challenge and entertain. These are films we love – we hope you’ll love them too. \nAll films with English subtitles. Screen Machine has wheelchair access. If you are a wheelchair user\, we ask you to please call our office in advance in order that we can prepare in advance of your visit – (0131) 550 3734. We can book your ticket and arrange entry for any carer who may accompany you. For hearing aid users\, we have a personal inductive neckloop facility\, If you would find this facility useful\, please ask the operator or usher when you arrive. \nIf there are titles here that you want to see but won’t get the chance\, let us know! Or if you see one of the Films We Love\, tell us what you think. We’ll listen to all the feedback on this project and use it to inform our future programmes. You can get in touch via email at info@regionalscreenscotland.org or via:\nFacebook /thescreenmachine\nTwitter @screen_machine\nInstagram @regional_screen_scotland
URL:https://scalarama.com/event/films-we-love-things-to-come/
LOCATION:Lochgilphead\, PA31 8NE\, United Kingdom
CATEGORIES:DirectedbyWomen,F-Rated,Highlands & Islands,scotland
ATTACH;FMTTYPE=image/jpeg:https://scalarama.com/wp-content/uploads/2018/07/FilmsWeLove_Logo_LS_RGB_72dpi.jpg
ORGANIZER;CN="Screen Machine":MAILTO:info@regionalscreenscotland.org
END:VEVENT
BEGIN:VEVENT
DTSTART;TZID=Europe/London:20180930T200000
DTEND;TZID=Europe/London:20180930T230000
DTSTAMP:20260425T165339
CREATED:20180722T192355Z
LAST-MODIFIED:20180826T184814Z
UID:6037-1538337600-1538348400@scalarama.com
SUMMARY:Free Shorts Screening + Pre-Festival Party w/ emerging DJs!
DESCRIPTION:World of Film Festival presents a FREE film screening of current international short films followed by music from emerging DJs. The DJs playing after the screening are emerging DJs living in Glasgow. We want to give those artists a chance to play their sets after our screening so people can hang out and chat or have a wee boogie. \nThe events can be attended separately or together. If you’re running late to the screening\, don’t worry: We’ll be happy to see you! It’s short films! You will still be able to watch something fab. Please do come in – nobody will shush you! \nWe understand some people get anxious or might run late due to a busy schedule/life getting in the way but we warmly welcome you to join us at NICE N SLEAZY anytime between 8-11pm! \nFurther info regarding short films and DJs will be released soon! Keep your eyes peeled!
URL:https://scalarama.com/event/free-shorts-screening-pre-festival-party-w-emerging-djs/
LOCATION:Nice N Sleazy\, 421 Sauchiehall Street\, Glasgow\, G2 3LG\, United Kingdom
CATEGORIES:Glasgow,scotland
ATTACH;FMTTYPE=image/jpeg:https://scalarama.com/wp-content/uploads/2018/07/WOFF-2018.jpg
ORGANIZER;CN="World of Film Festival":MAILTO:info@woffglasgow.com
END:VEVENT
END:VCALENDAR