BEGIN:VCALENDAR
VERSION:2.0
PRODID:-//Scalarama - ECPv6.15.20//NONSGML v1.0//EN
CALSCALE:GREGORIAN
METHOD:PUBLISH
X-WR-CALNAME:Scalarama
X-ORIGINAL-URL:https://scalarama.com
X-WR-CALDESC:Events for Scalarama
REFRESH-INTERVAL;VALUE=DURATION:PT1H
X-Robots-Tag:noindex
X-PUBLISHED-TTL:PT1H
BEGIN:VTIMEZONE
TZID:Europe/London
BEGIN:DAYLIGHT
TZOFFSETFROM:+0000
TZOFFSETTO:+0100
TZNAME:BST
DTSTART:20170326T010000
END:DAYLIGHT
BEGIN:STANDARD
TZOFFSETFROM:+0100
TZOFFSETTO:+0000
TZNAME:GMT
DTSTART:20171029T010000
END:STANDARD
BEGIN:DAYLIGHT
TZOFFSETFROM:+0000
TZOFFSETTO:+0100
TZNAME:BST
DTSTART:20180325T010000
END:DAYLIGHT
BEGIN:STANDARD
TZOFFSETFROM:+0100
TZOFFSETTO:+0000
TZNAME:GMT
DTSTART:20181028T010000
END:STANDARD
BEGIN:DAYLIGHT
TZOFFSETFROM:+0000
TZOFFSETTO:+0100
TZNAME:BST
DTSTART:20190331T010000
END:DAYLIGHT
BEGIN:STANDARD
TZOFFSETFROM:+0100
TZOFFSETTO:+0000
TZNAME:GMT
DTSTART:20191027T010000
END:STANDARD
END:VTIMEZONE
BEGIN:VEVENT
DTSTART;TZID=Europe/London:20180929T120000
DTEND;TZID=Europe/London:20180929T140000
DTSTAMP:20260426T014104
CREATED:20180729T153048Z
LAST-MODIFIED:20180824T161405Z
UID:6425-1538222400-1538229600@scalarama.com
SUMMARY:Little Adventurers Cinema Club Workshop
DESCRIPTION:Big Adventure Cinema and Wives Tales present the Little Adventurers Cinema Club\n\nA busy\, brilliant and creative workshop for children. Sign up to run a cinema from the inside: shoot and star in a trailer for a movie\, make props\, posters and more! A really fun and rewarding way to get involved in cinema.\n\nYour workshop ticket also includes entry to the Little Adventurers Cinema Club screening of an all-time family classic in October\, where work-shoppers will also be running the box office\, projector and shop!\n\nThis is our second workshop collaboration with Steffi and Alice\, the creative powerhouses who together form Wives Tales. That was an amazing experience and we’re looking forward to even more fun on this next adventure with our Little Cinema Clubbers!\n\nSaturday 29th September\, 12.00 to 2.00pm.\nFrederiks\, 32 Hope Street\, L1 9BX\n\n£10.00 +£1.37 booking fee\nhttps://www.facebook.com/events/1961755624121716\nhttps://www.eventbrite.co.uk/e/little-adventurers-cinema-club-workshop-tickets-49454149693\n 
URL:https://scalarama.com/event/little-adventurers-cinema-club-workshop/
LOCATION:Frederiks\, 32 Hope Street\, Liverpool\, L1 9BX\, United Kingdom
CATEGORIES:liverpool,workshop
ATTACH;FMTTYPE=image/jpeg:https://scalarama.com/wp-content/uploads/2018/07/LACC-logo.jpg
ORGANIZER;CN="Big Adventure Cinema":MAILTO:bigadventurecinema@gmail.com
END:VEVENT
BEGIN:VEVENT
DTSTART;TZID=Europe/London:20180929T200000
DTEND;TZID=Europe/London:20180929T220000
DTSTAMP:20260426T014104
CREATED:20180802T220045Z
LAST-MODIFIED:20180802T220244Z
UID:6845-1538251200-1538258400@scalarama.com
SUMMARY:Three Billboards Outside Ebbing\, Missouri
DESCRIPTION:This was one of the sensations of 2017\, and was the closing film of the Leeds International Film Festival. It also won the Oakwood Cinema ‘audience choice’ vote earlier this year! \nThree Billboards is an unusual film; it deals with murder\, revenge\, grief and loss\, as well as police violence and racism\, but it is also darkly comic. It contains some excellent performances\, particular the three main protagonists: Frances McDormand as a woman who takes matters into her own hands after the murder of her daughter\, Woody Harrleson as the local police chief\, and Sam Rockwell as a singularly incompetent and violent police officer. (Please note: Contains some explicit language.) \n  \nOakwood Cinema is an organisation run by volunteers to help bring our community together and to provide an independent local cinema for the residents of Oakwood and Roundhay in Leeds.
URL:https://scalarama.com/event/three-billboards-outside-ebbing-missouri/
LOCATION:East Sussex\, United Kingdom
CATEGORIES:leeds
ATTACH;FMTTYPE=image/jpeg:https://scalarama.com/wp-content/uploads/2018/08/Three-Billboards-to-size-1.jpg
END:VEVENT
END:VCALENDAR