BEGIN:VCALENDAR
VERSION:2.0
PRODID:-//Scalarama - ECPv6.15.20//NONSGML v1.0//EN
CALSCALE:GREGORIAN
METHOD:PUBLISH
X-ORIGINAL-URL:https://scalarama.com
X-WR-CALDESC:Events for Scalarama
REFRESH-INTERVAL;VALUE=DURATION:PT1H
X-Robots-Tag:noindex
X-PUBLISHED-TTL:PT1H
BEGIN:VTIMEZONE
TZID:Europe/London
BEGIN:DAYLIGHT
TZOFFSETFROM:+0000
TZOFFSETTO:+0100
TZNAME:BST
DTSTART:20170326T010000
END:DAYLIGHT
BEGIN:STANDARD
TZOFFSETFROM:+0100
TZOFFSETTO:+0000
TZNAME:GMT
DTSTART:20171029T010000
END:STANDARD
BEGIN:DAYLIGHT
TZOFFSETFROM:+0000
TZOFFSETTO:+0100
TZNAME:BST
DTSTART:20180325T010000
END:DAYLIGHT
BEGIN:STANDARD
TZOFFSETFROM:+0100
TZOFFSETTO:+0000
TZNAME:GMT
DTSTART:20181028T010000
END:STANDARD
BEGIN:DAYLIGHT
TZOFFSETFROM:+0000
TZOFFSETTO:+0100
TZNAME:BST
DTSTART:20190331T010000
END:DAYLIGHT
BEGIN:STANDARD
TZOFFSETFROM:+0100
TZOFFSETTO:+0000
TZNAME:GMT
DTSTART:20191027T010000
END:STANDARD
END:VTIMEZONE
BEGIN:VEVENT
DTSTART;TZID=Europe/London:20180927T193000
DTEND;TZID=Europe/London:20180927T223000
DTSTAMP:20260426T033031
CREATED:20180713T103402Z
LAST-MODIFIED:20180803T211405Z
UID:5104-1538076600-1538087400@scalarama.com
SUMMARY:Images of Apartheid + Q&A
DESCRIPTION:Images of Apartheid: Filmmaking on the Fringe in the Old South Africa (Calum Waddell\, 2018) \nMatchbox Cineclub and Africa in Motion (AiM) film festival present the untold story of the B Movies that flourished under the brutal regime of race-segregation and political persecution. \nFrom the maker of 42nd Street Memories and American Grindhouse\, Images of Apartheid uncovers the likes of Joe Bullet (1973)\, Fishy Stones (1979) and Umbango (1986)\, blaxploitation productions devised as entertainment for African natives forced into dilapidated townships. \nProducer/editor/cinematographer Naomi Holwill joins us for a post screening Q&A. \nThis event is part of the Scalarama Glasgow 2018 programme #Scalarama2018 \nThis event is free but ticketed: bit.ly/IOAGlasgow \n \n\nThis screening takes place in association with Kinning Park Complex‘s Waste Not Want Project which hosts a weekly Pay-What-You-Want Community Meal that intercepts surplus food from supermarkets which is destined for waste and creates nutritious meals for the community. The meal happens every Thursday from 6-8pm. \nThe Waste Not Want Project is funded by the Scottish Government’s Climate Challenge Fund. Since its inception in 2016\, the community kitchen at KPC has prevented 67\,382kg of CO2 emissions\, an amount of carbon emissions equivalent to those released to produce 5 tonnes of beef. Considering the amount of meat the average person eats\, this is enough to feed 117 people for a whole year.
URL:https://scalarama.com/event/images-of-apartheid-qa/
LOCATION:Kinning Park Complex\, 43 Cornwall Street\, Glasgow\, G411BA\, United Kingdom
CATEGORIES:Glasgow,scotland
ATTACH;FMTTYPE=image/jpeg:https://scalarama.com/wp-content/uploads/2018/07/images.jpg
END:VEVENT
END:VCALENDAR