BEGIN:VCALENDAR
VERSION:2.0
PRODID:-//Scalarama - ECPv6.15.20//NONSGML v1.0//EN
CALSCALE:GREGORIAN
METHOD:PUBLISH
X-WR-CALNAME:Scalarama
X-ORIGINAL-URL:https://scalarama.com
X-WR-CALDESC:Events for Scalarama
REFRESH-INTERVAL;VALUE=DURATION:PT1H
X-Robots-Tag:noindex
X-PUBLISHED-TTL:PT1H
BEGIN:VTIMEZONE
TZID:Europe/Paris
BEGIN:DAYLIGHT
TZOFFSETFROM:+0100
TZOFFSETTO:+0200
TZNAME:CEST
DTSTART:20170326T010000
END:DAYLIGHT
BEGIN:STANDARD
TZOFFSETFROM:+0200
TZOFFSETTO:+0100
TZNAME:CET
DTSTART:20171029T010000
END:STANDARD
BEGIN:DAYLIGHT
TZOFFSETFROM:+0100
TZOFFSETTO:+0200
TZNAME:CEST
DTSTART:20180325T010000
END:DAYLIGHT
BEGIN:STANDARD
TZOFFSETFROM:+0200
TZOFFSETTO:+0100
TZNAME:CET
DTSTART:20181028T010000
END:STANDARD
BEGIN:DAYLIGHT
TZOFFSETFROM:+0100
TZOFFSETTO:+0200
TZNAME:CEST
DTSTART:20190331T010000
END:DAYLIGHT
BEGIN:STANDARD
TZOFFSETFROM:+0200
TZOFFSETTO:+0100
TZNAME:CET
DTSTART:20191027T010000
END:STANDARD
END:VTIMEZONE
BEGIN:VTIMEZONE
TZID:Europe/London
BEGIN:DAYLIGHT
TZOFFSETFROM:+0000
TZOFFSETTO:+0100
TZNAME:BST
DTSTART:20170326T010000
END:DAYLIGHT
BEGIN:STANDARD
TZOFFSETFROM:+0100
TZOFFSETTO:+0000
TZNAME:GMT
DTSTART:20171029T010000
END:STANDARD
BEGIN:DAYLIGHT
TZOFFSETFROM:+0000
TZOFFSETTO:+0100
TZNAME:BST
DTSTART:20180325T010000
END:DAYLIGHT
BEGIN:STANDARD
TZOFFSETFROM:+0100
TZOFFSETTO:+0000
TZNAME:GMT
DTSTART:20181028T010000
END:STANDARD
BEGIN:DAYLIGHT
TZOFFSETFROM:+0000
TZOFFSETTO:+0100
TZNAME:BST
DTSTART:20190331T010000
END:DAYLIGHT
BEGIN:STANDARD
TZOFFSETFROM:+0100
TZOFFSETTO:+0000
TZNAME:GMT
DTSTART:20191027T010000
END:STANDARD
END:VTIMEZONE
BEGIN:VEVENT
DTSTART;TZID=Europe/Paris:20180926T190000
DTEND;TZID=Europe/Paris:20180926T230000
DTSTAMP:20260425T202956
CREATED:20180219T003739Z
LAST-MODIFIED:20180802T145557Z
UID:3612-1537988400-1538002800@scalarama.com
SUMMARY:Scala Cinema Book Launch Party
DESCRIPTION:It was the legendary cinema that banned Shane McGowan for his exploits during an All-Nighter\, fought the ‘Video Nasties’ bill and was prosecuted for showing A Clockwork Orange… 25 years later the Scala Cinema is back for one night only to launch a new book featuring the complete collection of its iconic monthly programmes from 1978-1993. \nAuthor and former Scala programmer Jane Giles reveals the highs\, lows\, thrills and spills of this notorious and influential rep cinema\, whose audience then included many of today’s most exciting filmmakers. Published by FAB Press\, the Scala Cinema book has been subsidised thanks to the generosity of some film industry folk\, and crowd funded by Indiegogo. \nPresented by Scalarama\, the book launch event will be a night of film highlights\, music & dancing\, special guests\, free Space Invaders tournaments and surprises! The headline act is now confirmed as composer Simon Boswell and his band AND performing live his scores for Scala classics by Dario Argento\, Alejandro Jodorowsky and Richard Stanley. \nReuniting Scala staff and audiences alike\, the venue will once again celebrate the Psychotronic\, Kung Fu\, horror\, cult\, music and LGBT+ films of the Scala’s vibrant daily changing programme. Everyone welcome. The Scala Cinema book will be on sale at the event or can be pre-ordered at www.fabpress.com \nTickets are £10 in advance from Scala: https://scala.co.uk/events/scala-cinema-book-launch-party
URL:https://scalarama.com/event/the-great-big-scala-book-launch-party/
LOCATION:Scala Music Venue Kings Cross\, London\, N1 9\, United Kingdom
CATEGORIES:Launch Event,london,Scala Cinema 40th Anniversary
ATTACH;FMTTYPE=image/jpeg:https://scalarama.com/wp-content/uploads/2018/02/37cba189cf93c09206d189ac6dd06bb9.jpg
END:VEVENT
BEGIN:VEVENT
DTSTART;TZID=Europe/London:20180926T200000
DTEND;TZID=Europe/London:20180926T200000
DTSTAMP:20260425T202956
CREATED:20180802T080607Z
LAST-MODIFIED:20180810T115847Z
UID:6611-1537992000-1537992000@scalarama.com
SUMMARY:La Belle et la Bête
DESCRIPTION:More beautiful than ever in a new 4K digital restoration\, Jean Cocteau’s spellbinding\, sensuous and poetic masterpiece was recently described by Guillermo del Toro as ‘the most perfect cinematic fable ever told’. \nA hapless merchant\, lost in a dark forest\, seeks refuge in the castle of a hideous monster who threatens to kill him unless one of his three daughters will agree to take his place. But when Beauty appears\, the Beast falls madly in love with her. Hauntingly portrayed by Jean Marais\, the Beast is all repressed lust and melancholy refinement\, while Beauty (Josette Day) is no mere damsel in distress\, overcoming her fears to explore a glittering\, shadowy realm which abounds in supernatural terrors and delights. Might she secretly relish this adventure which will help unlock her deepest desires?
URL:https://scalarama.com/event/la-belle-et-la-bete/
LOCATION:East Sussex\, United Kingdom
CATEGORIES:lewes,sussex
ATTACH;FMTTYPE=image/jpeg:https://scalarama.com/wp-content/uploads/2018/08/La-Belle-et-la-Bete-Poster.jpg
END:VEVENT
END:VCALENDAR