BEGIN:VCALENDAR
VERSION:2.0
PRODID:-//Scalarama - ECPv6.15.20//NONSGML v1.0//EN
CALSCALE:GREGORIAN
METHOD:PUBLISH
X-WR-CALNAME:Scalarama
X-ORIGINAL-URL:https://scalarama.com
X-WR-CALDESC:Events for Scalarama
REFRESH-INTERVAL;VALUE=DURATION:PT1H
X-Robots-Tag:noindex
X-PUBLISHED-TTL:PT1H
BEGIN:VTIMEZONE
TZID:Europe/London
BEGIN:DAYLIGHT
TZOFFSETFROM:+0000
TZOFFSETTO:+0100
TZNAME:BST
DTSTART:20170326T010000
END:DAYLIGHT
BEGIN:STANDARD
TZOFFSETFROM:+0100
TZOFFSETTO:+0000
TZNAME:GMT
DTSTART:20171029T010000
END:STANDARD
BEGIN:DAYLIGHT
TZOFFSETFROM:+0000
TZOFFSETTO:+0100
TZNAME:BST
DTSTART:20180325T010000
END:DAYLIGHT
BEGIN:STANDARD
TZOFFSETFROM:+0100
TZOFFSETTO:+0000
TZNAME:GMT
DTSTART:20181028T010000
END:STANDARD
BEGIN:DAYLIGHT
TZOFFSETFROM:+0000
TZOFFSETTO:+0100
TZNAME:BST
DTSTART:20190331T010000
END:DAYLIGHT
BEGIN:STANDARD
TZOFFSETFROM:+0100
TZOFFSETTO:+0000
TZNAME:GMT
DTSTART:20191027T010000
END:STANDARD
END:VTIMEZONE
BEGIN:VEVENT
DTSTART;TZID=Europe/London:20180925T180000
DTEND;TZID=Europe/London:20180925T213000
DTSTAMP:20260426T014037
CREATED:20180901T072729Z
LAST-MODIFIED:20180924T132552Z
UID:7718-1537898400-1537911000@scalarama.com
SUMMARY:POSTPONED: Sin Bin of the City & Whose Streets?
DESCRIPTION:EVENT POSTPONED\nDue to some unforeseen circumstances\, we will be postponing this event – we will look to reschedule this for mid-late October. Apologies for any inconvenience this has caused. \n————————————————– \nScalarama Liverpool\, a month-long film season across Merseyside\, marks 50 years since 1968 to see what impact that revolutionary year had on the world and what can we learn from the past to deal with the current state of affairs. As part of our BLACK POWER strand of this programme\, we host an event in Liverpool 8 looking at black activism past and present. \nStarting with short film SIN BIN OF THE CITY made by local filmmaker James Arthur Armstrong about the 1981 Toxteth Riots/Uprisings\, followed by WHOSE STREETS? (Sabaah Folayan & Damon Davis\, 2017) about the uprising which followed the killing of Michael Brown in Ferguson\, Missouri. \n“An essential testament to the commitment of activists\, told in their own fervent voices.” – Hollywood Reporter. \nWe are pleased to welcome filmmaker James Arthur Armstrong to the screening to discuss his film. \nThe screening will be followed by discussion. Join us at Kuumba Imani for some food before the screening from 6pm. Films will start at 6.30pm. \nTickets: Pay-what-you-can donation (recommended donation £5 / £4 concessions) BUY HERE >>  \n#UPRISING #DIRECTEDBYWOMEN
URL:https://scalarama.com/event/uprising-sin-bin-of-the-city-whose-streets/
LOCATION:Kuumba Imani Millenium Centre\, 4 Princes Road\, Liverpool\, L8 1TH\, United Kingdom
CATEGORIES:DirectedbyWomen,F-Rated,liverpool,Uprising: Spirit of 1968
ATTACH;FMTTYPE=image/jpeg:https://scalarama.com/wp-content/uploads/2018/09/WhoseStreets.jpg
ORGANIZER;CN="Scalarama Liverpool":MAILTO:scalaramaliverpool@gmail.com
END:VEVENT
BEGIN:VEVENT
DTSTART;TZID=Europe/London:20180925T183000
DTEND;TZID=Europe/London:20180925T203000
DTSTAMP:20260426T014037
CREATED:20180802T212547Z
LAST-MODIFIED:20180802T215052Z
UID:6830-1537900200-1537907400@scalarama.com
SUMMARY:Women’s Animation From Near And Far
DESCRIPTION:This 90-minute programme\, presented by Leeds Animation Workshop\, will include the premiere of a new short film made at the Workshop\, as well as a couple of old and new favourites from the local women’s collective\, set up 40 years ago.\n\n\n Also showing: a selection of films by women animators from the UK\, and around the world – including films  by indigenous artists\, and emerging animators\, never before seen in this country.\n\nFeatured are powerful works about First Nation heritage by Inuit and Siberian film-makers\, alongside two of the new generation of Czech animators – young women launching their own fresh style within a great tradition of individuality and humour.\n\n\n\n\nPart of ‘Anim18: A Celebration of British Animation’\nContact: info@leedsanimation.org.uk
URL:https://scalarama.com/event/womens-animation-from-near-and-far/
LOCATION:East Sussex\, United Kingdom
CATEGORIES:leeds
ATTACH;FMTTYPE=image/jpeg:https://scalarama.com/wp-content/uploads/2018/08/Anim18.jpg
END:VEVENT
BEGIN:VEVENT
DTSTART;TZID=Europe/London:20180925T183000
DTEND;TZID=Europe/London:20180925T213000
DTSTAMP:20260426T014037
CREATED:20180720T194201Z
LAST-MODIFIED:20180826T184141Z
UID:5785-1537900200-1537911000@scalarama.com
SUMMARY:Eatfilm presents Clueless
DESCRIPTION:Shallow\, rich and socially successful Cher (Alicia Silverstone) is at the top of her Beverly Hills high school’s pecking scale. Seeing herself as a matchmaker\, Cher first coaxes two teachers into dating each other. Emboldened by her success\, she decides to give hopelessly klutzy new student Tai (Brittany Murphy) a makeover. When Tai becomes more popular than she is\, Cher realises that her disapproving ex-stepbrother (Paul Rudd) was right about how misguided she was – and falls for him. \nMacaroni Cheese\, Chilli Cheese Dog and Sweet Potato\, Coconut & Chickpea Curry and a movie for only £13.95 for 2! \nFor more information or to hire Eat Film for your own private party call 0141 221 8886 and speak to our Events Manager. \n* Due to licensing restrictions\, EatFilm patrons must be 18 years or over.
URL:https://scalarama.com/event/eatfilm-presents-clueless/
LOCATION:Sloans\, The Argyll Arcade\, 108 Argyle Street\, Glasgow\, Lanarkshire\, G2 8BG\, United Kingdom
CATEGORIES:Glasgow,scotland
ATTACH;FMTTYPE=image/jpeg:https://scalarama.com/wp-content/uploads/2018/07/Clueless.jpg
ORGANIZER;CN="EatFilm":MAILTO:info@sloansglasgow.com
END:VEVENT
BEGIN:VEVENT
DTSTART;TZID=Europe/London:20180925T190000
DTEND;TZID=Europe/London:20180925T220000
DTSTAMP:20260426T014037
CREATED:20180720T023815Z
LAST-MODIFIED:20180810T101650Z
UID:5448-1537902000-1537912800@scalarama.com
SUMMARY:The Bromley Boys + Q&A with Brenock O’Connor
DESCRIPTION:1970: England is preparing for the defence of the World Cup. \nBromley FC had seen better days: playing and crowd support are embarrassingly poor. David\, nevertheless\, is a big fan; he longs to be in the inner sanctum of his beloved club. \nTeams opposing Bromley lose count of the number of goals conceded. Gambler-Manager McQueen is thought to be considering selling the club’s ‘star’ player to save the enterprise. Chinese whispers abound. Our hero\, David is a big fan of the club’s star and is on McQueen’s trail\, believing the worst. Things\, however\, are never what they seem … \nDoors 7pm\, feature starts at 7:30pm
URL:https://scalarama.com/event/the-bromley-boys-qa-with-brenock-oconnor/
LOCATION:Cinema Saltdean\, St Nicholas Hall\, Saltdean Vale\, Brighton\, East Sussex\, BN2 8HA\, United Kingdom
CATEGORIES:brighton,sussex
ATTACH;FMTTYPE=image/jpeg:https://scalarama.com/wp-content/uploads/2018/07/40X30-QUAD-002.jpg
END:VEVENT
END:VCALENDAR