BEGIN:VCALENDAR
VERSION:2.0
PRODID:-//Scalarama - ECPv6.15.20//NONSGML v1.0//EN
CALSCALE:GREGORIAN
METHOD:PUBLISH
X-WR-CALNAME:Scalarama
X-ORIGINAL-URL:https://scalarama.com
X-WR-CALDESC:Events for Scalarama
REFRESH-INTERVAL;VALUE=DURATION:PT1H
X-Robots-Tag:noindex
X-PUBLISHED-TTL:PT1H
BEGIN:VTIMEZONE
TZID:Europe/London
BEGIN:DAYLIGHT
TZOFFSETFROM:+0000
TZOFFSETTO:+0100
TZNAME:BST
DTSTART:20170326T010000
END:DAYLIGHT
BEGIN:STANDARD
TZOFFSETFROM:+0100
TZOFFSETTO:+0000
TZNAME:GMT
DTSTART:20171029T010000
END:STANDARD
BEGIN:DAYLIGHT
TZOFFSETFROM:+0000
TZOFFSETTO:+0100
TZNAME:BST
DTSTART:20180325T010000
END:DAYLIGHT
BEGIN:STANDARD
TZOFFSETFROM:+0100
TZOFFSETTO:+0000
TZNAME:GMT
DTSTART:20181028T010000
END:STANDARD
BEGIN:DAYLIGHT
TZOFFSETFROM:+0000
TZOFFSETTO:+0100
TZNAME:BST
DTSTART:20190331T010000
END:DAYLIGHT
BEGIN:STANDARD
TZOFFSETFROM:+0100
TZOFFSETTO:+0000
TZNAME:GMT
DTSTART:20191027T010000
END:STANDARD
END:VTIMEZONE
BEGIN:VEVENT
DTSTART;VALUE=DATE:20180923
DTEND;VALUE=DATE:20180924
DTSTAMP:20260425T203004
CREATED:20180808T082834Z
LAST-MODIFIED:20180810T115855Z
UID:6861-1537660800-1537747199@scalarama.com
SUMMARY:Women Over 50 Film Festival 2018
DESCRIPTION:As #MeToo and #TimesUp shine a light on the film industry’s dark side\, Women Over 50 Film Festival fights back with short films that amuse\, astound and agitate\, celebrating the work of older women on both sides of the camera. \nWOFFF18 presents 2 feature films\, over 50 short films\, an all-female panel event and a weekend of workshops\, talks and networking events to enlighten\, encourage and excite. \nProgramme 5 – 11.00 \nA selection of international\, short films (drama\, documentary\, animation and experimental) by or about women over 50. Followed Q&A with WOFFF filmmakers. \nFull price – £8.00 \nConcession – £4.00 \nProgramme 6 – 12:55 \nA selection of international\, short films (drama\, documentary\, animation and experimental) by or about women over 50. Followed Q&A with WOFFF filmmakers. \nFull price – £8.00 \nConcession – £4.00 \nProgramme 7 – 16:20 \nA selection of international\, short films (drama\, documentary\, animation and experimental) by or about women over 50. Followed Q&A with WOFFF filmmakers. \nFull price – £8.00 \nConcession – £4.00 \nProgramme 8 – 18:20 \nA selection of international\, short films (drama\, documentary\, animation and experimental) by or about women over 50. Followed Q&A with WOFFF filmmakers  and WOFFF18 Awards Ceremony. Prizes awarded for Best Drama\, Best Documentary\, Best Animation\, Best Experimental\, Best Student Film and Audience Choice Award \nFull price – £8.00 \nConcession – £4.00
URL:https://scalarama.com/event/women-over-50-film-festival-2018-2/
LOCATION:East Sussex\, United Kingdom
CATEGORIES:DirectedbyWomen,F-Rated,lewes,sussex
ATTACH;FMTTYPE=image/png:https://scalarama.com/wp-content/uploads/2018/08/Women-Over-Fifty-Film-Festival-1.png
END:VEVENT
BEGIN:VEVENT
DTSTART;TZID=Europe/London:20180923T160000
DTEND;TZID=Europe/London:20180923T183000
DTSTAMP:20260425T203004
CREATED:20180822T115419Z
LAST-MODIFIED:20180822T115419Z
UID:7399-1537718400-1537727400@scalarama.com
SUMMARY:Food for Real Autumn: Taking Root
DESCRIPTION:Squash’s seasonal events return with their Autumn edition\, taking place at their new headquarters on 112-114 Windsor Street\, L8 including films\, workshops and of course lovely food!\n\nTaking Root\nLisa Merton\, Alan Dater\, USA\, 2008\, 81 minutes\nDiscover the story of Kenyan Nobel Peace Prize Laureate Wangari Maathai whose simple act of planting trees grew into a nationwide movement to safeguard the environment\, protect human rights and defend democracy.\n\nShown with short film Hack the Root (director Monika Koeck) about the work Dr Mae-Ling Lokko has created with the Squash and L8 community – making building material from mushrooms – as part of this year’s Liverpool Biennial.\n\nWe are pleased to welcome good food actionist and BBC Cook of the Year winner Deirdre Dee Woods to talk about her work as part of Granville Community Kitchen and how to get active around growing and food.\n\nPay as you feel. Advanced booking via Eventbrite (tickets online soon)\n\nFilms are part of Scalarama Liverpool’s Uprising theme\, exploring black activism across the world. Supported by the BFI Film Audience Network.
URL:https://scalarama.com/event/food-for-real-autumn-taking-root/
LOCATION:Squash\, 112-114 Windsor Street\, Liverpool\, L8 8EQ\, United Kingdom
CATEGORIES:DirectedbyWomen,F-Rated,liverpool
ATTACH;FMTTYPE=image/jpeg:https://scalarama.com/wp-content/uploads/2018/08/takingroot4.jpg
END:VEVENT
BEGIN:VEVENT
DTSTART;TZID=Europe/London:20180923T173000
DTEND;TZID=Europe/London:20180923T193000
DTSTAMP:20260425T203004
CREATED:20180722T230738Z
LAST-MODIFIED:20180815T104400Z
UID:6140-1537723800-1537731000@scalarama.com
SUMMARY:Films We Love: Cleo from 5 to 7
DESCRIPTION:Cleo\, a singer living in Paris\, awaits the test results of a biopsy – she meets friends\, makes friends\, wanders the city and attempts to deal with the limbo-like state of waiting. Writer/Director Agnès Varda vividly captures the atmosphere of Paris in the 1960s\, unfolding the narrative in real time to create a nimble\, spirited and utterly modern portrait of Cleo’s life in a day. \n“Varda\, once unjustly overlooked\, is now at age 90 considered a legend of cinema\, having received an Honorary Oscar in 2017. Her second film\, Cleo from 5 to 7\, looks stunning\, it’s funny\, stylish and thoughtful\, and pretty much a total joy.” – Screen Machine team. \nWe know that some of our audiences want to see a broader range of films\, so\, alongside our usual programme\, between August – October this year we’re bringing six different films to six different locations. Each film has been chosen specially by one of six members from the Screen Machine team. This is an outstanding selection of international titles spanning decades\, a variety of genres and innovative filmmaking styles. We’ve delved deep into our fondest memories of cinema-going to choose films that inspire\, challenge and entertain. These are films we love – we hope you’ll love them too. \nAll films with English subtitles. Screen Machine has wheelchair access. If you are a wheelchair user\, we ask you to please call our office in advance in order that we can prepare in advance of your visit – (0131) 550 3734. We can book your ticket and arrange entry for any carer who may accompany you. For hearing aid users\, we have a personal inductive neckloop facility\, If you would find this facility useful\, please ask the operator or usher when you arrive. \nIf there are titles here that you want to see but won’t get the chance\, let us know! Or if you see one of the Films We Love\, tell us what you think. We’ll listen to all the feedback on this project and use it to inform our future programmes. You can get in touch via email at info@regionalscreenscotland.org or via:\nFacebook /thescreenmachine\nTwitter @screen_machine\nInstagram @regional_screen_scotland
URL:https://scalarama.com/event/films-we-love-cleo-from-5-to-7/
LOCATION:Brodick\, Isle of Arran\, KA27 8AA\, United Kingdom
CATEGORIES:DirectedbyWomen,F-Rated,Highlands & Islands,scotland,Vardarama
ATTACH;FMTTYPE=image/jpeg:https://scalarama.com/wp-content/uploads/2018/07/FilmsWeLove_Logo_LS_RGB_72dpi.jpg
ORGANIZER;CN="Screen Machine":MAILTO:info@regionalscreenscotland.org
END:VEVENT
END:VCALENDAR