BEGIN:VCALENDAR
VERSION:2.0
PRODID:-//Scalarama - ECPv6.15.20//NONSGML v1.0//EN
CALSCALE:GREGORIAN
METHOD:PUBLISH
X-WR-CALNAME:Scalarama
X-ORIGINAL-URL:https://scalarama.com
X-WR-CALDESC:Events for Scalarama
REFRESH-INTERVAL;VALUE=DURATION:PT1H
X-Robots-Tag:noindex
X-PUBLISHED-TTL:PT1H
BEGIN:VTIMEZONE
TZID:Europe/London
BEGIN:DAYLIGHT
TZOFFSETFROM:+0000
TZOFFSETTO:+0100
TZNAME:BST
DTSTART:20170326T010000
END:DAYLIGHT
BEGIN:STANDARD
TZOFFSETFROM:+0100
TZOFFSETTO:+0000
TZNAME:GMT
DTSTART:20171029T010000
END:STANDARD
BEGIN:DAYLIGHT
TZOFFSETFROM:+0000
TZOFFSETTO:+0100
TZNAME:BST
DTSTART:20180325T010000
END:DAYLIGHT
BEGIN:STANDARD
TZOFFSETFROM:+0100
TZOFFSETTO:+0000
TZNAME:GMT
DTSTART:20181028T010000
END:STANDARD
BEGIN:DAYLIGHT
TZOFFSETFROM:+0000
TZOFFSETTO:+0100
TZNAME:BST
DTSTART:20190331T010000
END:DAYLIGHT
BEGIN:STANDARD
TZOFFSETFROM:+0100
TZOFFSETTO:+0000
TZNAME:GMT
DTSTART:20191027T010000
END:STANDARD
END:VTIMEZONE
BEGIN:VEVENT
DTSTART;TZID=Europe/London:20180919T190000
DTEND;TZID=Europe/London:20180919T220000
DTSTAMP:20260426T014046
CREATED:20180721T131645Z
LAST-MODIFIED:20180919T090916Z
UID:5945-1537383600-1537394400@scalarama.com
SUMMARY:Show + Tell
DESCRIPTION:What’s the best film you’ve never heard of? Show + Tell invites guests to play a trailer and tell us something strange about a film they love\, or love to hate. \nPhysical Impossibility’s Show + Tell is a confessional\, a soapbox\, a chance for our guests to spread the word or clear their consciences. Come along to hear their recommendations\, secret obsessions and guilty pleasures. \nAnd if you have an axe to grind\, a bell to ring or just a strange itch to scratch\, email sean@physicalimpossibility.com to take part. \nA zine and blog featuring “words and pictures about cult cinema”\, Physical Impossibility has produced a series of live panel events for Glasgow Film Festival. These include Bad Romance\, Patsies! A Celebration of the Cinematic Loser and 2018’s Anti-Villains. \nPart of the Scalarama Glasgow 2018 programme
URL:https://scalarama.com/event/show-tell/
LOCATION:East Sussex\, United Kingdom
CATEGORIES:Glasgow,scotland
ATTACH;FMTTYPE=image/jpeg:https://scalarama.com/wp-content/uploads/2018/07/38866638_1109455895871933_3434547654254657536_o.jpg
ORGANIZER;CN="Physical Impossibility":MAILTO:sean.m.welsh@gmail.com
END:VEVENT
BEGIN:VEVENT
DTSTART;TZID=Europe/London:20180919T190000
DTEND;TZID=Europe/London:20180919T220000
DTSTAMP:20260426T014046
CREATED:20180724T231334Z
LAST-MODIFIED:20180810T102027Z
UID:5921-1537383600-1537394400@scalarama.com
SUMMARY:Me Before You: The Piss Take
DESCRIPTION:Ever wanted to talk back to the film Me Before You\, abelism and ‘cripping up’!? Now is your chance! Presented in partnership with Fabrica\, The Other Screen invites you to our most interactive live cinema event yet.\n\nIn the style of midnight movies and The Rocky Horror Picture Show\, each audience member will be given a prescribed (pun intended) list of interactions designed specifically for Me Before You: The Piss Take. Dress up in your best ‘Sexy Dignitas’ for an evening of controversy and fun as we celebrate reclaiming the content of the film and how “brave” Sam Claflin was for playing a disabled character.\n\nThrough film and discussion\, The Other Screen illuminates how representations of disabled people and the d/Deaf community are formed and how as a critically engaged audience\, we can widen these outlooks. The Other Screen is for disabled and non-disabled audiences alike and aims to reach anyone who identifies with the Other. Have your say with our most confrontational event yet!
URL:https://scalarama.com/event/me-before-you-the-piss-take/
LOCATION:East Sussex\, United Kingdom
CATEGORIES:brighton,sussex
ATTACH;FMTTYPE=image/jpeg:https://scalarama.com/wp-content/uploads/2018/07/Me-Before-You.jpg
END:VEVENT
END:VCALENDAR