BEGIN:VCALENDAR
VERSION:2.0
PRODID:-//Scalarama - ECPv6.15.20//NONSGML v1.0//EN
CALSCALE:GREGORIAN
METHOD:PUBLISH
X-WR-CALNAME:Scalarama
X-ORIGINAL-URL:https://scalarama.com
X-WR-CALDESC:Events for Scalarama
REFRESH-INTERVAL;VALUE=DURATION:PT1H
X-Robots-Tag:noindex
X-PUBLISHED-TTL:PT1H
BEGIN:VTIMEZONE
TZID:Europe/London
BEGIN:DAYLIGHT
TZOFFSETFROM:+0000
TZOFFSETTO:+0100
TZNAME:BST
DTSTART:20170326T010000
END:DAYLIGHT
BEGIN:STANDARD
TZOFFSETFROM:+0100
TZOFFSETTO:+0000
TZNAME:GMT
DTSTART:20171029T010000
END:STANDARD
BEGIN:DAYLIGHT
TZOFFSETFROM:+0000
TZOFFSETTO:+0100
TZNAME:BST
DTSTART:20180325T010000
END:DAYLIGHT
BEGIN:STANDARD
TZOFFSETFROM:+0100
TZOFFSETTO:+0000
TZNAME:GMT
DTSTART:20181028T010000
END:STANDARD
BEGIN:DAYLIGHT
TZOFFSETFROM:+0000
TZOFFSETTO:+0100
TZNAME:BST
DTSTART:20190331T010000
END:DAYLIGHT
BEGIN:STANDARD
TZOFFSETFROM:+0100
TZOFFSETTO:+0000
TZNAME:GMT
DTSTART:20191027T010000
END:STANDARD
END:VTIMEZONE
BEGIN:VEVENT
DTSTART;TZID=Europe/London:20180918T183000
DTEND;TZID=Europe/London:20180918T213000
DTSTAMP:20260426T014040
CREATED:20180720T193846Z
LAST-MODIFIED:20180826T183207Z
UID:5782-1537295400-1537306200@scalarama.com
SUMMARY:Eatfilm presents Moulin Rouge
DESCRIPTION:The year is 1899 and Christian\, a young English writer\, has come to Paris to follow the Bohemian revolution taking hold of the city’s drug and prostitute infested underworld. And nowhere is the thrill of the underworld more alive than at the Moulin Rouge\, a night club where the rich and poor men alike come to be entertained by the dancers\, but things take a wicked turn for Christian as he starts a deadly love affair with the star courtesan of the club\, Satine. \nMacaroni Cheese\, Chilli Cheese Dog and Sweet Potato\, Coconut & Chickpea Curry and a movie for only £13.95 for 2! \nFor more information or to hire Eat Film for your own private party call 0141 221 8886 and speak to our Events Manager. \n* Due to licensing restrictions\, EatFilm patrons must be 18 years or over.
URL:https://scalarama.com/event/eatfilm-presents-moulin-rouge/
LOCATION:Sloans\, The Argyll Arcade\, 108 Argyle Street\, Glasgow\, Lanarkshire\, G2 8BG\, United Kingdom
CATEGORIES:Glasgow,scotland
ATTACH;FMTTYPE=image/jpeg:https://scalarama.com/wp-content/uploads/2018/07/53715f683fef7.jpg
ORGANIZER;CN="EatFilm":MAILTO:info@sloansglasgow.com
END:VEVENT
BEGIN:VEVENT
DTSTART;TZID=Europe/London:20180918T190000
DTEND;TZID=Europe/London:20180918T220000
DTSTAMP:20260426T014040
CREATED:20180724T233152Z
LAST-MODIFIED:20180810T102029Z
UID:5461-1537297200-1537308000@scalarama.com
SUMMARY:Single Takes
DESCRIPTION:Brighton based film collective\, Octopus Films\, presents 12 short film monologues covering the full range of human experience. Funny\, mysterious\, surreal\, tragic and heartwarming – just like life.\n\nOctopus Films are a Brighton based short film collective made of up of professional filmmakers\, keen enthusiasts and students. We have been working together since 2015 and have previously screened our work at the Duke of Yorks and Komedia to packed audiences.\n\nDoors from 7pm\, feature starts at 7:30pm
URL:https://scalarama.com/event/single-takes/
LOCATION:East Sussex\, United Kingdom
CATEGORIES:brighton,sussex
ATTACH;FMTTYPE=image/jpeg:https://scalarama.com/wp-content/uploads/2018/07/this-one-for-flyer.jpeg
END:VEVENT
END:VCALENDAR