BEGIN:VCALENDAR
VERSION:2.0
PRODID:-//Scalarama - ECPv6.15.20//NONSGML v1.0//EN
CALSCALE:GREGORIAN
METHOD:PUBLISH
X-WR-CALNAME:Scalarama
X-ORIGINAL-URL:https://scalarama.com
X-WR-CALDESC:Events for Scalarama
REFRESH-INTERVAL;VALUE=DURATION:PT1H
X-Robots-Tag:noindex
X-PUBLISHED-TTL:PT1H
BEGIN:VTIMEZONE
TZID:Europe/London
BEGIN:DAYLIGHT
TZOFFSETFROM:+0000
TZOFFSETTO:+0100
TZNAME:BST
DTSTART:20170326T010000
END:DAYLIGHT
BEGIN:STANDARD
TZOFFSETFROM:+0100
TZOFFSETTO:+0000
TZNAME:GMT
DTSTART:20171029T010000
END:STANDARD
BEGIN:DAYLIGHT
TZOFFSETFROM:+0000
TZOFFSETTO:+0100
TZNAME:BST
DTSTART:20180325T010000
END:DAYLIGHT
BEGIN:STANDARD
TZOFFSETFROM:+0100
TZOFFSETTO:+0000
TZNAME:GMT
DTSTART:20181028T010000
END:STANDARD
BEGIN:DAYLIGHT
TZOFFSETFROM:+0000
TZOFFSETTO:+0100
TZNAME:BST
DTSTART:20190331T010000
END:DAYLIGHT
BEGIN:STANDARD
TZOFFSETFROM:+0100
TZOFFSETTO:+0000
TZNAME:GMT
DTSTART:20191027T010000
END:STANDARD
END:VTIMEZONE
BEGIN:VEVENT
DTSTART;TZID=Europe/London:20180913T180000
DTEND;TZID=Europe/London:20180913T223000
DTSTAMP:20260426T051443
CREATED:20180724T235021Z
LAST-MODIFIED:20180724T235021Z
UID:5494-1536861600-1536877800@scalarama.com
SUMMARY:Secret Cinema Scalarama Special
DESCRIPTION:The Secret Cinema has been one of Inkwell Art’s huge success stories and has been running for over six years bringing communities together using the magic of cinema and the power of good wholesome food. We are hosting a special evening offering a unique cinema and dining experience in our warm friendly gallery space in Chapel Allerton. The evening kicks off with a delicious home cooked three course veggie/ vegan meal followed by a free film for our diners to enjoy. \nThe concept behind Secret Cinema is very simple……… the film is a secret! Regular visitors to the Secret Cinema have grown to completely trust our movie choices to the extent that many don’t even want to know the film title right up until the projector lights up and the film starts rolling! However\, for those who are more curious\, in the weeks prior to the event\, we will be posting picture and word puzzle clues on our social media pages and website to give you some hints. \nThe Scalarama Special will be showing a cult classic we’re sure you’ll love! (Cert 15)\nMore clues to follow on Facebook and Twitter!
URL:https://scalarama.com/event/secret-cinema-scalarama-special/
LOCATION:Inkwell Arts\, 31 Potternewton Lane\, Chapel Allerton\, Leeds\, LS7 3LW\, United Kingdom
CATEGORIES:leeds
ATTACH;FMTTYPE=image/jpeg:https://scalarama.com/wp-content/uploads/2018/07/37568707_2065708013503615_2937775390153768960_n.jpg
ORGANIZER;CN="Inkwell Arts":MAILTO:inkwell@leedsmind.org.uk
END:VEVENT
BEGIN:VEVENT
DTSTART;TZID=Europe/London:20180913T183000
DTEND;TZID=Europe/London:20180913T193000
DTSTAMP:20260426T051443
CREATED:20180803T021815Z
LAST-MODIFIED:20180810T102040Z
UID:6854-1536863400-1536867000@scalarama.com
SUMMARY:Mortido
DESCRIPTION:Mortido is a short film by Miska Morning\, it explores childhood imagination and memories in a tale of mourning a loss of a father\, set somewhere between dark horror and a bittersweet fairy tale.
URL:https://scalarama.com/event/mortido-2/
LOCATION:East Sussex\, United Kingdom
CATEGORIES:brighton,sussex
ATTACH;FMTTYPE=image/jpeg:https://scalarama.com/wp-content/uploads/2018/08/Mortido.jpg
ORGANIZER;CN="Diva%E2%80%99s Piccol Odeon":MAILTO:hello@cafediva.co.uk
END:VEVENT
END:VCALENDAR