BEGIN:VCALENDAR
VERSION:2.0
PRODID:-//Scalarama - ECPv6.15.20//NONSGML v1.0//EN
CALSCALE:GREGORIAN
METHOD:PUBLISH
X-WR-CALNAME:Scalarama
X-ORIGINAL-URL:https://scalarama.com
X-WR-CALDESC:Events for Scalarama
REFRESH-INTERVAL;VALUE=DURATION:PT1H
X-Robots-Tag:noindex
X-PUBLISHED-TTL:PT1H
BEGIN:VTIMEZONE
TZID:Europe/London
BEGIN:DAYLIGHT
TZOFFSETFROM:+0000
TZOFFSETTO:+0100
TZNAME:BST
DTSTART:20170326T010000
END:DAYLIGHT
BEGIN:STANDARD
TZOFFSETFROM:+0100
TZOFFSETTO:+0000
TZNAME:GMT
DTSTART:20171029T010000
END:STANDARD
BEGIN:DAYLIGHT
TZOFFSETFROM:+0000
TZOFFSETTO:+0100
TZNAME:BST
DTSTART:20180325T010000
END:DAYLIGHT
BEGIN:STANDARD
TZOFFSETFROM:+0100
TZOFFSETTO:+0000
TZNAME:GMT
DTSTART:20181028T010000
END:STANDARD
BEGIN:DAYLIGHT
TZOFFSETFROM:+0000
TZOFFSETTO:+0100
TZNAME:BST
DTSTART:20190331T010000
END:DAYLIGHT
BEGIN:STANDARD
TZOFFSETFROM:+0100
TZOFFSETTO:+0000
TZNAME:GMT
DTSTART:20191027T010000
END:STANDARD
END:VTIMEZONE
BEGIN:VEVENT
DTSTART;TZID=Europe/London:20180903T200000
DTEND;TZID=Europe/London:20180903T220000
DTSTAMP:20260426T014028
CREATED:20180713T130006Z
LAST-MODIFIED:20180713T130006Z
UID:4842-1536004800-1536012000@scalarama.com
SUMMARY:You Were Never Really Here
DESCRIPTION:From the director of Ratcatcher and We Need To Talk About Kevin\, You Were Never Really Here is the brutal and defiantly masterful new film by uncompromising British filmmaker Lynne Ramsay\, and stars an ever-excellent Joaquin Phenoix as a damaged Gulf War veteran and former FBI agent turned assassin for hire\, tasked with rescuing a U.S. senator’s daughter from an upscale brothel\, as well as taking out the perpetrators responsible for her kidnapping. \nRecalling many of the harrowing themes found in Scorsese’s Taxi Driver\, and aided by Thomas Townend’s remarkable cinematography and Jonny Greenwood’s immersive electronic score\, this inventive thriller is a devastating portrayal of a man wrestling with years of repression and abuse while engaged in a cycle of violence he cannot control. \n“…an overwhelming experience\, a slice of pure cinema from a director who refuses to dance to the beat of anyone’s drum but her own. From the disorienting opening to the enigmatic finale\, Lynne Ramsay is always really here\, her commanding vision shining through every frame”\nMark Kermode\, The Guardian
URL:https://scalarama.com/event/you-were-never-really-here/
LOCATION:The Old Market\, 11A Upper Market Street\, Hove\, East Sussex\, BN3 1AS\, United Kingdom
CATEGORIES:brighton,DirectedbyWomen,F-Rated
ATTACH;FMTTYPE=image/jpeg:https://scalarama.com/wp-content/uploads/2018/06/image-youwerenever-800x500-1.jpg
END:VEVENT
END:VCALENDAR