BEGIN:VCALENDAR
VERSION:2.0
PRODID:-//Scalarama - ECPv6.15.20//NONSGML v1.0//EN
CALSCALE:GREGORIAN
METHOD:PUBLISH
X-WR-CALNAME:Scalarama
X-ORIGINAL-URL:https://scalarama.com
X-WR-CALDESC:Events for Scalarama
REFRESH-INTERVAL;VALUE=DURATION:PT1H
X-Robots-Tag:noindex
X-PUBLISHED-TTL:PT1H
BEGIN:VTIMEZONE
TZID:Europe/London
BEGIN:DAYLIGHT
TZOFFSETFROM:+0000
TZOFFSETTO:+0100
TZNAME:BST
DTSTART:20170326T010000
END:DAYLIGHT
BEGIN:STANDARD
TZOFFSETFROM:+0100
TZOFFSETTO:+0000
TZNAME:GMT
DTSTART:20171029T010000
END:STANDARD
BEGIN:DAYLIGHT
TZOFFSETFROM:+0000
TZOFFSETTO:+0100
TZNAME:BST
DTSTART:20180325T010000
END:DAYLIGHT
BEGIN:STANDARD
TZOFFSETFROM:+0100
TZOFFSETTO:+0000
TZNAME:GMT
DTSTART:20181028T010000
END:STANDARD
BEGIN:DAYLIGHT
TZOFFSETFROM:+0000
TZOFFSETTO:+0100
TZNAME:BST
DTSTART:20190331T010000
END:DAYLIGHT
BEGIN:STANDARD
TZOFFSETFROM:+0100
TZOFFSETTO:+0000
TZNAME:GMT
DTSTART:20191027T010000
END:STANDARD
END:VTIMEZONE
BEGIN:VEVENT
DTSTART;TZID=Europe/London:20180902T130000
DTEND;TZID=Europe/London:20180902T160000
DTSTAMP:20260426T014113
CREATED:20180724T125149Z
LAST-MODIFIED:20180724T125149Z
UID:5479-1535893200-1535904000@scalarama.com
SUMMARY:Flicker+Pulse
DESCRIPTION:Come and see an amazing time-lapse film of a beautiful English walled garden and then join us for home-grown food and drink on the Chapel FM allotment. \nUsing real-time and time-lapse footage\, the film explores the relationship between the seasons and the plants and people who work within the walls of the garden. Locked into the clock of the solar system\, the garden performs its annual display\, guided by the ritualistic human intervention of those passionately engaged with its soil. \nThe beginning of September marks the end of the summer. With the ground still producing much in the way of fruits and vegetables\, we invite you to watch the beautiful film Flicker + Pulse\, made by Yorkshire based Site-Eye Films and then join us and our fellow allotmenteers at the back of Chapel FM to eat\, drink and celebrate home-produced food. \nFilm Certificate: U \nFilm Length: 50 minutes
URL:https://scalarama.com/event/flickerpulse/
LOCATION:Chapel FM Arts Centre\, Old Seacroft Chapel\, York Road\, Leeds\, LS14 6JB\, United Kingdom
CATEGORIES:leeds
ATTACH;FMTTYPE=image/jpeg:https://scalarama.com/wp-content/uploads/2018/07/flickerpulse.jpg
ORGANIZER;CN="Chapel FM Arts Centre":MAILTO:info@chapelfm.co.uk
END:VEVENT
END:VCALENDAR