BEGIN:VCALENDAR
VERSION:2.0
PRODID:-//Scalarama - ECPv6.15.20//NONSGML v1.0//EN
CALSCALE:GREGORIAN
METHOD:PUBLISH
X-WR-CALNAME:Scalarama
X-ORIGINAL-URL:https://scalarama.com
X-WR-CALDESC:Events for Scalarama
REFRESH-INTERVAL;VALUE=DURATION:PT1H
X-Robots-Tag:noindex
X-PUBLISHED-TTL:PT1H
BEGIN:VTIMEZONE
TZID:Europe/London
BEGIN:DAYLIGHT
TZOFFSETFROM:+0000
TZOFFSETTO:+0100
TZNAME:BST
DTSTART:20170326T010000
END:DAYLIGHT
BEGIN:STANDARD
TZOFFSETFROM:+0100
TZOFFSETTO:+0000
TZNAME:GMT
DTSTART:20171029T010000
END:STANDARD
BEGIN:DAYLIGHT
TZOFFSETFROM:+0000
TZOFFSETTO:+0100
TZNAME:BST
DTSTART:20180325T010000
END:DAYLIGHT
BEGIN:STANDARD
TZOFFSETFROM:+0100
TZOFFSETTO:+0000
TZNAME:GMT
DTSTART:20181028T010000
END:STANDARD
BEGIN:DAYLIGHT
TZOFFSETFROM:+0000
TZOFFSETTO:+0100
TZNAME:BST
DTSTART:20190331T010000
END:DAYLIGHT
BEGIN:STANDARD
TZOFFSETFROM:+0100
TZOFFSETTO:+0000
TZNAME:GMT
DTSTART:20191027T010000
END:STANDARD
END:VTIMEZONE
BEGIN:VEVENT
DTSTART;TZID=Europe/London:20180829T200000
DTEND;TZID=Europe/London:20180829T220000
DTSTAMP:20260425T235839
CREATED:20180729T110610Z
LAST-MODIFIED:20180802T145558Z
UID:6436-1535572800-1535580000@scalarama.com
SUMMARY:Feel Scala : Scalarama Liverpool 2018 Programme Launch
DESCRIPTION:We are up for cinema partying in Liverpool !  Join us in THE launch  of Scalarama Liverpool  2018 programme where everyone is invited and you can not missed! No etiquette\, no ticket\, no nada.. only your presence is needed. \nEmbrace the Scalarama spirit in one of the most upbeat bars in town\, The Baltic Social\, be the first one to watch our brand new 2018 Scalarama Liverpool season trailer and the screening of Michael Baig Clifford’s short documentary on the original inspiration for Scalarama\, London’s legendary Scala Cinema. This year marks the 40th anniversary of the Scala Cinema’s opening and the 25th anniversary of its closure. Our Liverpudlian opening will include a hand-picked short films exploring our star theme of this year\, The Spirit Of 68  . Right after the screenings\, if you mingle around you can have a “social drink” with the Scalarama team\,  exchange views with the curators of this year’s programme or hopefully you might want to grow our lovely family and become involved in the electrifying world of Scalarama. Whatever happens\, we guarantee you will not get bored!\nThis event is completely free – no need to book !
URL:https://scalarama.com/event/feel-scala-scalarama-liverpool-2018-programme-launch/
LOCATION:The Baltic Social\, 27 Parliament St\, Liverpool\, L8 5RN\, United Kingdom
CATEGORIES:Launch Event,liverpool,Scala Cinema 40th Anniversary
ATTACH;FMTTYPE=image/png:https://scalarama.com/wp-content/uploads/2018/07/scala-CAT.png
ORGANIZER;CN="Scalarama Liverpool":MAILTO:scalaramaliverpool@gmail.com
END:VEVENT
END:VCALENDAR